BEGIN:VCALENDAR
VERSION:2.0
PRODID:SchoolNow
CALSCALE:GREGORIAN
BEGIN:VEVENT
UID:6166db9e-97cf-11f0-86e9-0a58a9feac02
DTSTAMP:20250922T161539Z
SUMMARY:CDD Meeting - Sept. 2026
LOCATION:The Landing - 7012 Sail View Ln\, Apollo Beach\, FL 33572
URL;VALUE=URI:https://www.watersetnorthcdd.org/calendar/8653048/cdd-meeting
 -sept-2026
DTSTART:20260922T220000Z
DTEND:20260922T230000Z
END:VEVENT
END:VCALENDAR
