BEGIN:VCALENDAR
VERSION:2.0
PRODID:SchoolNow
CALSCALE:GREGORIAN
BEGIN:VEVENT
UID:37f15b2c-97cf-11f0-a481-0e5840398e91
DTSTAMP:20250922T161430Z
SUMMARY:CDD Meeting - Jul. 2026
LOCATION:The Landing - 7012 Sail View Ln\, Apollo Beach\, FL 33572
URL;VALUE=URI:https://www.watersetnorthcdd.org/calendar/8653046/cdd-meeting
 -jul-2026
DTSTART:20260728T220000Z
DTEND:20260728T230000Z
END:VEVENT
END:VCALENDAR
