BEGIN:VCALENDAR
VERSION:2.0
PRODID:SchoolNow
CALSCALE:GREGORIAN
BEGIN:VEVENT
UID:aba8dc14-71f3-11ef-a26f-0ea252e1d553
DTSTAMP:20250317T190915Z
SUMMARY:CDD Meeting - Mar. 2025
LOCATION:The Landing - 7012 Sail View Ln\, Apollo Beach\, FL 33572
URL;VALUE=URI:https://www.watersetnorthcdd.org/calendar/6595015/cdd-meeting
 -mar-2025
DTSTART:20250325T220000Z
DTEND:20250325T230000Z
ATTACH;FILENAME=2025-03-25- Waterset North CDD - Final Agenda Packet.pdf;FM
 TTYPE=application/pdf:https://campussuite-storage.s3.amazonaws.com/prod/15
 59045/6c03abea-e22b-11ea-9feb-12345b6d3629/2928452/4c5b43d0-0363-11f0-9e6d
 -0a58a9feac02/file/2025-03-25- Waterset North CDD - Final Agenda Packet.pd
 f
END:VEVENT
END:VCALENDAR
